BEGIN:VCALENDAR
VERSION:2.0
PRODID:-//Squarespace Inc/Squarespace 6//v6//EN
BEGIN:VEVENT
UID:5ab590ab352f534a09131344@squarespace.com
DTSTAMP:20180324T230956Z
DTSTART:20180331T153000Z
DTEND:20180331T173000Z
SUMMARY:Coffee with the Candidate Fundraiser w/ Owen Carver
GEO:36.07387;-115.182946
LOCATION:Café do Paraíso\, 3135 West Post Road\, Las Vegas\, NV\, 89118\, 
 United States
END:VEVENT
END:VCALENDAR
