BEGIN:VCALENDAR
VERSION:2.0
PRODID:-//Squarespace Inc/Squarespace 6//v6//EN
BEGIN:VEVENT
UID:5ab55cdef950b7039c847801@squarespace.com
DTSTAMP:20180324T231018Z
DTSTART:20180329T230000Z
DTEND:20180330T020000Z
SUMMARY:Fundraising Dinner w/ Lance Coburn
GEO:36.176254;-115.349177
LOCATION:Lance Coburn's Residence\, 217 Tiburtina Avenue\, Las Vegas\, NV\, 
 89138\, United States
END:VEVENT
END:VCALENDAR
