BEGIN:VCALENDAR
VERSION:2.0
PRODID:-//Squarespace Inc/Squarespace 6//v6//EN
BEGIN:VEVENT
UID:5ab56139758d46d6fb62fec1@squarespace.com
DTSTAMP:20180323T235102Z
DTSTART:20180326T220000Z
DTEND:20180327T010000Z
SUMMARY:Independent Black Voters Meeting
GEO:36.224736;-115.218141
LOCATION:Nehemiah Ministries Christian Church\, 3606 North Rancho Drive\, L
 as Vegas\, NV\, 89130\, United States
END:VEVENT
END:VCALENDAR
