BEGIN:VCALENDAR
VERSION:2.0
PRODID:-//Squarespace Inc/Squarespace 6//v6//EN
BEGIN:VEVENT
UID:5ab560038a922d7af0658dd4@squarespace.com
DTSTAMP:20180323T235300Z
DTSTART:20180327T220000Z
DTEND:20180328T000000Z
SUMMARY:Dem Vets CD4 Forum
GEO:36.240074;-115.057952
LOCATION:VFW Post 10047\, 4337 North Las Vegas Boulevard\, Las Vegas\, NV\, 
 89115\, United States
END:VEVENT
END:VCALENDAR
