BEGIN:VCALENDAR
VERSION:2.0
PRODID:-//Squarespace Inc/Squarespace 6//v6//EN
BEGIN:VEVENT
UID:5ab55e77aa4a997e57be3e7a@squarespace.com
DTSTAMP:20180323T235200Z
DTSTART:20180328T230000Z
DTEND:20180329T010000Z
SUMMARY:Red Rock Dems CD4 Forum
GEO:36.199048;-115.29255
LOCATION:Temple Sinai Las Vegas\, 9001 Hillpointe Road\, Las Vegas\, NV\, 8
 9134\, United States
END:VEVENT
END:VCALENDAR
