BEGIN:VCALENDAR
VERSION:2.0
PRODID:-//Squarespace Inc/Squarespace 6//v6//EN
BEGIN:VEVENT
UID:5ab55a5f03ce648650064431@squarespace.com
DTSTAMP:20180323T201053Z
DTSTART:20180330T210000Z
DTEND:20180331T000000Z
SUMMARY:Team Vilela EOQ Fundraiser
GEO:36.189165;-115.152783
LOCATION:Team Vilela HQ\, 912 West Owens Avenue\, Las Vegas\, NV\, 89106\, 
 United States
END:VEVENT
END:VCALENDAR
